





BEGIN:VCALENDAR
VERSION:2.0
PRODID:-//VSC Klingenthal e.V. - ECPv5.9.2//NONSGML v1.0//EN
CALSCALE:GREGORIAN
METHOD:PUBLISH
X-WR-CALNAME:VSC Klingenthal e.V.
X-ORIGINAL-URL:https://vsc-klingenthal.de
X-WR-CALDESC:Events for VSC Klingenthal e.V.
BEGIN:VTIMEZONE
TZID:Europe/Berlin
BEGIN:DAYLIGHT
TZOFFSETFROM:+0100
TZOFFSETTO:+0200
TZNAME:CEST
DTSTART:20120325T010000
END:DAYLIGHT
BEGIN:STANDARD
TZOFFSETFROM:+0200
TZOFFSETTO:+0100
TZNAME:CET
DTSTART:20121028T010000
END:STANDARD
END:VTIMEZONE
BEGIN:VEVENT
DTSTART;TZID=Europe/Berlin:20120121T080000
DTEND;TZID=Europe/Berlin:20120121T170000
DTSTAMP:20260419T212419
CREATED:20201208T091208Z
LAST-MODIFIED:20201208T091208Z
UID:245923-1327132800-1327165200@vsc-klingenthal.de
SUMMARY:Deutscher Schülercup
DESCRIPTION:
URL:https://vsc-klingenthal.de/veranstaltungen/deutscher-schuelercup-7/
LOCATION:Skistadion Mühlleithen\, Floßgrabenweg 1\, Klingenthal\, 08248\, Deutschland
CATEGORIES:Skilanglauf
ATTACH;FMTTYPE=image/png:https://vsc-klingenthal.de/wp-content/uploads/2020/10/langlauf.png
ORGANIZER;CN="VSC%20Klingenthal%20e.V.":MAILTO:sport@weltcup-klingenthal.de
END:VEVENT
BEGIN:VEVENT
DTSTART;TZID=Europe/Berlin:20120122T080000
DTEND;TZID=Europe/Berlin:20120122T170000
DTSTAMP:20260419T212419
CREATED:20201208T091408Z
LAST-MODIFIED:20201208T091408Z
UID:245926-1327219200-1327251600@vsc-klingenthal.de
SUMMARY:Deutscher Schülercup
DESCRIPTION:
URL:https://vsc-klingenthal.de/veranstaltungen/deutscher-schuelercup-8/
LOCATION:Skistadion Mühlleithen\, Floßgrabenweg 1\, Klingenthal\, 08248\, Deutschland
CATEGORIES:Skilanglauf
ATTACH;FMTTYPE=image/png:https://vsc-klingenthal.de/wp-content/uploads/2020/10/langlauf.png
ORGANIZER;CN="VSC%20Klingenthal%20e.V.":MAILTO:sport@weltcup-klingenthal.de
END:VEVENT
BEGIN:VEVENT
DTSTART;TZID=Europe/Berlin:20120128T080000
DTEND;TZID=Europe/Berlin:20120128T170000
DTSTAMP:20260419T212419
CREATED:20201204T090647Z
LAST-MODIFIED:20210226T132750Z
UID:244996-1327737600-1327770000@vsc-klingenthal.de
SUMMARY:Continental Cup Nordische Kombination
DESCRIPTION:
URL:https://vsc-klingenthal.de/veranstaltungen/continentalcup-nordische-kombination-4/
LOCATION:Sparkasse Vogtland Arena\, Falkensteiner Str. 133\, Klingenthal\, 08248\, Deutschland
CATEGORIES:Nordische Kombination
ATTACH;FMTTYPE=image/png:https://vsc-klingenthal.de/wp-content/uploads/2020/10/nordische_kombination-.png
ORGANIZER;CN="VSC%20Klingenthal%20e.V.":MAILTO:sport@weltcup-klingenthal.de
END:VEVENT
BEGIN:VEVENT
DTSTART;TZID=Europe/Berlin:20120129T080000
DTEND;TZID=Europe/Berlin:20120129T170000
DTSTAMP:20260419T212419
CREATED:20201204T090837Z
LAST-MODIFIED:20210226T132739Z
UID:245000-1327824000-1327856400@vsc-klingenthal.de
SUMMARY:Continental Cup Nordische Kombination
DESCRIPTION:
URL:https://vsc-klingenthal.de/veranstaltungen/continentalcup-nordische-kombination-5/
LOCATION:Sparkasse Vogtland Arena\, Falkensteiner Str. 133\, Klingenthal\, 08248\, Deutschland
CATEGORIES:Nordische Kombination
ATTACH;FMTTYPE=image/png:https://vsc-klingenthal.de/wp-content/uploads/2020/10/nordische_kombination-.png
ORGANIZER;CN="VSC%20Klingenthal%20e.V.":MAILTO:sport@weltcup-klingenthal.de
END:VEVENT
END:VCALENDAR