





BEGIN:VCALENDAR
VERSION:2.0
PRODID:-//VSC Klingenthal e.V. - ECPv5.9.2//NONSGML v1.0//EN
CALSCALE:GREGORIAN
METHOD:PUBLISH
X-WR-CALNAME:VSC Klingenthal e.V.
X-ORIGINAL-URL:https://vsc-klingenthal.de
X-WR-CALDESC:Events for VSC Klingenthal e.V.
BEGIN:VTIMEZONE
TZID:Europe/Berlin
BEGIN:DAYLIGHT
TZOFFSETFROM:+0100
TZOFFSETTO:+0200
TZNAME:CEST
DTSTART:20250330T010000
END:DAYLIGHT
BEGIN:STANDARD
TZOFFSETFROM:+0200
TZOFFSETTO:+0100
TZNAME:CET
DTSTART:20251026T010000
END:STANDARD
END:VTIMEZONE
BEGIN:VEVENT
DTSTART;TZID=Europe/Berlin:20250126T103000
DTEND;TZID=Europe/Berlin:20250126T150000
DTSTAMP:20260422T093028
CREATED:20250123T070312Z
LAST-MODIFIED:20250126T125425Z
UID:461770-1737887400-1737903600@vsc-klingenthal.de
SUMMARY:Sachsenpokal Skilanglauf
DESCRIPTION:
URL:https://vsc-klingenthal.de/veranstaltungen/sachsenpokal-skilanglauf/
LOCATION:Skistadion Mühlleithen\, Floßgrabenweg 1\, Klingenthal\, 08248\, Deutschland
CATEGORIES:Skilanglauf
ATTACH;FMTTYPE=image/png:https://vsc-klingenthal.de/wp-content/uploads/2020/10/langlauf.png
END:VEVENT
END:VCALENDAR