





BEGIN:VCALENDAR
VERSION:2.0
PRODID:-//VSC Klingenthal e.V. - ECPv5.9.2//NONSGML v1.0//EN
CALSCALE:GREGORIAN
METHOD:PUBLISH
X-WR-CALNAME:VSC Klingenthal e.V.
X-ORIGINAL-URL:https://vsc-klingenthal.de
X-WR-CALDESC:Events for VSC Klingenthal e.V.
BEGIN:VTIMEZONE
TZID:Europe/Berlin
BEGIN:DAYLIGHT
TZOFFSETFROM:+0100
TZOFFSETTO:+0200
TZNAME:CEST
DTSTART:20020331T010000
END:DAYLIGHT
BEGIN:STANDARD
TZOFFSETFROM:+0200
TZOFFSETTO:+0100
TZNAME:CET
DTSTART:20021027T010000
END:STANDARD
BEGIN:DAYLIGHT
TZOFFSETFROM:+0100
TZOFFSETTO:+0200
TZNAME:CEST
DTSTART:20030330T010000
END:DAYLIGHT
BEGIN:STANDARD
TZOFFSETFROM:+0200
TZOFFSETTO:+0100
TZNAME:CET
DTSTART:20031026T010000
END:STANDARD
BEGIN:DAYLIGHT
TZOFFSETFROM:+0100
TZOFFSETTO:+0200
TZNAME:CEST
DTSTART:20040328T010000
END:DAYLIGHT
BEGIN:STANDARD
TZOFFSETFROM:+0200
TZOFFSETTO:+0100
TZNAME:CET
DTSTART:20041031T010000
END:STANDARD
BEGIN:DAYLIGHT
TZOFFSETFROM:+0100
TZOFFSETTO:+0200
TZNAME:CEST
DTSTART:20050327T010000
END:DAYLIGHT
BEGIN:STANDARD
TZOFFSETFROM:+0200
TZOFFSETTO:+0100
TZNAME:CET
DTSTART:20051030T010000
END:STANDARD
BEGIN:DAYLIGHT
TZOFFSETFROM:+0100
TZOFFSETTO:+0200
TZNAME:CEST
DTSTART:20060326T010000
END:DAYLIGHT
BEGIN:STANDARD
TZOFFSETFROM:+0200
TZOFFSETTO:+0100
TZNAME:CET
DTSTART:20061029T010000
END:STANDARD
BEGIN:DAYLIGHT
TZOFFSETFROM:+0100
TZOFFSETTO:+0200
TZNAME:CEST
DTSTART:20070325T010000
END:DAYLIGHT
BEGIN:STANDARD
TZOFFSETFROM:+0200
TZOFFSETTO:+0100
TZNAME:CET
DTSTART:20071028T010000
END:STANDARD
BEGIN:DAYLIGHT
TZOFFSETFROM:+0100
TZOFFSETTO:+0200
TZNAME:CEST
DTSTART:20080330T010000
END:DAYLIGHT
BEGIN:STANDARD
TZOFFSETFROM:+0200
TZOFFSETTO:+0100
TZNAME:CET
DTSTART:20081026T010000
END:STANDARD
BEGIN:DAYLIGHT
TZOFFSETFROM:+0100
TZOFFSETTO:+0200
TZNAME:CEST
DTSTART:20090329T010000
END:DAYLIGHT
BEGIN:STANDARD
TZOFFSETFROM:+0200
TZOFFSETTO:+0100
TZNAME:CET
DTSTART:20091025T010000
END:STANDARD
BEGIN:DAYLIGHT
TZOFFSETFROM:+0100
TZOFFSETTO:+0200
TZNAME:CEST
DTSTART:20100328T010000
END:DAYLIGHT
BEGIN:STANDARD
TZOFFSETFROM:+0200
TZOFFSETTO:+0100
TZNAME:CET
DTSTART:20101031T010000
END:STANDARD
BEGIN:DAYLIGHT
TZOFFSETFROM:+0100
TZOFFSETTO:+0200
TZNAME:CEST
DTSTART:20110327T010000
END:DAYLIGHT
BEGIN:STANDARD
TZOFFSETFROM:+0200
TZOFFSETTO:+0100
TZNAME:CET
DTSTART:20111030T010000
END:STANDARD
BEGIN:DAYLIGHT
TZOFFSETFROM:+0100
TZOFFSETTO:+0200
TZNAME:CEST
DTSTART:20120325T010000
END:DAYLIGHT
BEGIN:STANDARD
TZOFFSETFROM:+0200
TZOFFSETTO:+0100
TZNAME:CET
DTSTART:20121028T010000
END:STANDARD
BEGIN:DAYLIGHT
TZOFFSETFROM:+0100
TZOFFSETTO:+0200
TZNAME:CEST
DTSTART:20130331T010000
END:DAYLIGHT
BEGIN:STANDARD
TZOFFSETFROM:+0200
TZOFFSETTO:+0100
TZNAME:CET
DTSTART:20131027T010000
END:STANDARD
BEGIN:DAYLIGHT
TZOFFSETFROM:+0100
TZOFFSETTO:+0200
TZNAME:CEST
DTSTART:20140330T010000
END:DAYLIGHT
BEGIN:STANDARD
TZOFFSETFROM:+0200
TZOFFSETTO:+0100
TZNAME:CET
DTSTART:20141026T010000
END:STANDARD
BEGIN:DAYLIGHT
TZOFFSETFROM:+0100
TZOFFSETTO:+0200
TZNAME:CEST
DTSTART:20150329T010000
END:DAYLIGHT
BEGIN:STANDARD
TZOFFSETFROM:+0200
TZOFFSETTO:+0100
TZNAME:CET
DTSTART:20151025T010000
END:STANDARD
BEGIN:DAYLIGHT
TZOFFSETFROM:+0100
TZOFFSETTO:+0200
TZNAME:CEST
DTSTART:20160327T010000
END:DAYLIGHT
BEGIN:STANDARD
TZOFFSETFROM:+0200
TZOFFSETTO:+0100
TZNAME:CET
DTSTART:20161030T010000
END:STANDARD
BEGIN:DAYLIGHT
TZOFFSETFROM:+0100
TZOFFSETTO:+0200
TZNAME:CEST
DTSTART:20170326T010000
END:DAYLIGHT
BEGIN:STANDARD
TZOFFSETFROM:+0200
TZOFFSETTO:+0100
TZNAME:CET
DTSTART:20171029T010000
END:STANDARD
BEGIN:DAYLIGHT
TZOFFSETFROM:+0100
TZOFFSETTO:+0200
TZNAME:CEST
DTSTART:20180325T010000
END:DAYLIGHT
BEGIN:STANDARD
TZOFFSETFROM:+0200
TZOFFSETTO:+0100
TZNAME:CET
DTSTART:20181028T010000
END:STANDARD
BEGIN:DAYLIGHT
TZOFFSETFROM:+0100
TZOFFSETTO:+0200
TZNAME:CEST
DTSTART:20190331T010000
END:DAYLIGHT
BEGIN:STANDARD
TZOFFSETFROM:+0200
TZOFFSETTO:+0100
TZNAME:CET
DTSTART:20191027T010000
END:STANDARD
BEGIN:DAYLIGHT
TZOFFSETFROM:+0100
TZOFFSETTO:+0200
TZNAME:CEST
DTSTART:20200329T010000
END:DAYLIGHT
BEGIN:STANDARD
TZOFFSETFROM:+0200
TZOFFSETTO:+0100
TZNAME:CET
DTSTART:20201025T010000
END:STANDARD
BEGIN:DAYLIGHT
TZOFFSETFROM:+0100
TZOFFSETTO:+0200
TZNAME:CEST
DTSTART:20210328T010000
END:DAYLIGHT
BEGIN:STANDARD
TZOFFSETFROM:+0200
TZOFFSETTO:+0100
TZNAME:CET
DTSTART:20211031T010000
END:STANDARD
END:VTIMEZONE
BEGIN:VEVENT
DTSTART;TZID=Europe/Berlin:20020907T080000
DTEND;TZID=Europe/Berlin:20020907T170000
DTSTAMP:20260420T053205
CREATED:20201207T084459Z
LAST-MODIFIED:20201209T081225Z
UID:245335-1031385600-1031418000@vsc-klingenthal.de
SUMMARY:Internationaler Deutscher Sommercup Nordische Kombination
DESCRIPTION:
URL:https://vsc-klingenthal.de/veranstaltungen/internationaler-deutscher-sommercup-nordische-kombination-5/
LOCATION:Waldstadion Mühlleiten
CATEGORIES:Nordische Kombination
ATTACH;FMTTYPE=image/png:https://vsc-klingenthal.de/wp-content/uploads/2020/10/nordische_kombination-.png
ORGANIZER;CN="VSC%20Klingenthal%20e.V.":MAILTO:sport@weltcup-klingenthal.de
END:VEVENT
BEGIN:VEVENT
DTSTART;TZID=Europe/Berlin:20030906T080000
DTEND;TZID=Europe/Berlin:20030906T170000
DTSTAMP:20260420T053205
CREATED:20201207T084819Z
LAST-MODIFIED:20201207T084819Z
UID:245338-1062835200-1062867600@vsc-klingenthal.de
SUMMARY:Internationaler Deutscher Sommercup Nordische Kombination
DESCRIPTION:
URL:https://vsc-klingenthal.de/veranstaltungen/internationaler-deutscher-sommercup-nordische-kombination-6/
LOCATION:Waldstadion Mühlleiten
CATEGORIES:Nordische Kombination
ATTACH;FMTTYPE=image/png:https://vsc-klingenthal.de/wp-content/uploads/2020/10/nordische_kombination-.png
ORGANIZER;CN="VSC%20Klingenthal%20e.V.":MAILTO:sport@weltcup-klingenthal.de
END:VEVENT
BEGIN:VEVENT
DTSTART;TZID=Europe/Berlin:20050910T080000
DTEND;TZID=Europe/Berlin:20050910T170000
DTSTAMP:20260420T053205
CREATED:20201207T085351Z
LAST-MODIFIED:20201207T085351Z
UID:245344-1126339200-1126371600@vsc-klingenthal.de
SUMMARY:Internationaler Deutscher Sommercup Nordische Kombination
DESCRIPTION:
URL:https://vsc-klingenthal.de/veranstaltungen/internationaler-deutscher-sommercup-nordische-kombination-8/
LOCATION:Waldstadion Mühlleiten
CATEGORIES:Nordische Kombination
ATTACH;FMTTYPE=image/png:https://vsc-klingenthal.de/wp-content/uploads/2020/10/nordische_kombination-.png
ORGANIZER;CN="VSC%20Klingenthal%20e.V.":MAILTO:sport@weltcup-klingenthal.de
END:VEVENT
BEGIN:VEVENT
DTSTART;TZID=Europe/Berlin:20050910T080000
DTEND;TZID=Europe/Berlin:20050910T170000
DTSTAMP:20260420T053205
CREATED:20201207T085126Z
LAST-MODIFIED:20201207T085126Z
UID:245341-1126339200-1126371600@vsc-klingenthal.de
SUMMARY:Internationaler Deutscher Sommercup Nordische Kombination
DESCRIPTION:
URL:https://vsc-klingenthal.de/veranstaltungen/internationaler-deutscher-sommercup-nordische-kombination-7/
LOCATION:Waldstadion Mühlleiten
CATEGORIES:Nordische Kombination
ATTACH;FMTTYPE=image/png:https://vsc-klingenthal.de/wp-content/uploads/2020/10/nordische_kombination-.png
ORGANIZER;CN="VSC%20Klingenthal%20e.V.":MAILTO:sport@weltcup-klingenthal.de
END:VEVENT
BEGIN:VEVENT
DTSTART;TZID=Europe/Berlin:20070908T080000
DTEND;TZID=Europe/Berlin:20070908T170000
DTSTAMP:20260420T053205
CREATED:20201207T085824Z
LAST-MODIFIED:20201207T085824Z
UID:245349-1189238400-1189270800@vsc-klingenthal.de
SUMMARY:Internationaler Deutscher Sommercup Nordische Kombination
DESCRIPTION:
URL:https://vsc-klingenthal.de/veranstaltungen/internationaler-deutscher-sommercup-nordische-kombination-9/
LOCATION:Waldstadion Mühlleiten
CATEGORIES:Nordische Kombination
ATTACH;FMTTYPE=image/png:https://vsc-klingenthal.de/wp-content/uploads/2020/10/nordische_kombination-.png
ORGANIZER;CN="VSC%20Klingenthal%20e.V.":MAILTO:sport@weltcup-klingenthal.de
END:VEVENT
BEGIN:VEVENT
DTSTART;TZID=Europe/Berlin:20090906T080000
DTEND;TZID=Europe/Berlin:20090906T080000
DTSTAMP:20260420T053205
CREATED:20201207T090937Z
LAST-MODIFIED:20201207T090937Z
UID:245359-1252224000-1252224000@vsc-klingenthal.de
SUMMARY:Internationaler Deutscher Sommercup Nordische Kombination
DESCRIPTION:
URL:https://vsc-klingenthal.de/veranstaltungen/internationaler-deutscher-sommercup-nordische-kombination-12/
LOCATION:Waldstadion Mühlleiten
CATEGORIES:Nordische Kombination
ATTACH;FMTTYPE=image/png:https://vsc-klingenthal.de/wp-content/uploads/2020/10/nordische_kombination-.png
ORGANIZER;CN="VSC%20Klingenthal%20e.V.":MAILTO:sport@weltcup-klingenthal.de
END:VEVENT
BEGIN:VEVENT
DTSTART;VALUE=DATE:20201231
DTEND;VALUE=DATE:20210101
DTSTAMP:20260420T053205
CREATED:20201110T155327Z
LAST-MODIFIED:20210226T130724Z
UID:244345-1609372800-1609459199@vsc-klingenthal.de
SUMMARY:Miniskifliegen & Mini-Kombi - abgesagt
DESCRIPTION:
URL:https://vsc-klingenthal.de/veranstaltungen/miniskifliegen-mini-kombi/
LOCATION:Waldstadion Mühlleiten
CATEGORIES:Nordische Kombination,Skispringen
ATTACH;FMTTYPE=image/png:https://vsc-klingenthal.de/wp-content/uploads/2020/10/sportarten.png
ORGANIZER;CN="VSC%20Klingenthal%20e.V.":MAILTO:sport@weltcup-klingenthal.de
END:VEVENT
BEGIN:VEVENT
DTSTART;VALUE=DATE:20210905
DTEND;VALUE=DATE:20210906
DTSTAMP:20260420T053205
CREATED:20210604T120350Z
LAST-MODIFIED:20210604T120725Z
UID:249717-1630800000-1630886399@vsc-klingenthal.de
SUMMARY:Vereinsfest 2021
DESCRIPTION:
URL:https://vsc-klingenthal.de/veranstaltungen/vereinsfest-2021/
LOCATION:Waldstadion Mühlleiten
ATTACH;FMTTYPE=image/png:https://vsc-klingenthal.de/wp-content/uploads/2020/10/intern.png
ORGANIZER;CN="VSC%20Klingenthal%20e.V.":MAILTO:sport@weltcup-klingenthal.de
END:VEVENT
END:VCALENDAR